BEGIN:VCALENDAR
VERSION:2.0
PRODID:-//Atlantic Institute - ECPv6.2.9//NONSGML v1.0//EN
CALSCALE:GREGORIAN
METHOD:PUBLISH
X-ORIGINAL-URL:https://theatlanticinstitute.org
X-WR-CALDESC:Events for Atlantic Institute
REFRESH-INTERVAL;VALUE=DURATION:PT1H
X-Robots-Tag:noindex
X-PUBLISHED-TTL:PT1H
BEGIN:VTIMEZONE
TZID:UTC
BEGIN:STANDARD
TZOFFSETFROM:+0000
TZOFFSETTO:+0000
TZNAME:UTC
DTSTART:20260101T000000
END:STANDARD
END:VTIMEZONE
BEGIN:VEVENT
DTSTART;TZID=UTC:20260329T140000
DTEND;TZID=UTC:20260329T170000
DTSTAMP:20260424T091007
CREATED:20260403T180943Z
LAST-MODIFIED:20260403T184756Z
UID:770-1774792800-1774803600@theatlanticinstitute.org
SUMMARY:Branching Out: Our Community Service Day with Trees Atlanta
DESCRIPTION:We organized a tree planting project as a meaningful day of service\, bringing our community together to plant trees and invest in a greener\, more environmentally sustainable future. We were grateful to organize a meaningful service gathering with Trees Atlanta\, and our representatives worked side by side to create lasting impact beyond the day itself. We are honored for the opportunity to turn shared values into to something that will continue to grow for years to come.
URL:https://theatlanticinstitute.org/event/770/
CATEGORIES:Civic Engagement
ATTACH;FMTTYPE=image/jpeg:https://theatlanticinstitute.org/wp-content/uploads/2026/04/657936464_18060626996693846_1121221108597656342_n.jpg
END:VEVENT
BEGIN:VEVENT
DTSTART;TZID=UTC:20260329T163000
DTEND;TZID=UTC:20260329T210000
DTSTAMP:20260424T091007
CREATED:20260408T180055Z
LAST-MODIFIED:20260408T180055Z
UID:808-1774801800-1774818000@theatlanticinstitute.org
SUMMARY:Atlantic Institute at the Atlanta Interfaith Hunger Seder and Marketplace
DESCRIPTION:We were honored to take part as one of the participating interfaith partner organizations at the Atlanta Interfaith Hunger Seder and Marketplace\, where we hosted a table representing the Atlantic Institute.\n\n\nIt was a meaningful opportunity to connect with diverse communities\, engage in thoughtful conversations\, and stand together around the shared commitment to addressing hunger and building stronger\, more compassionate communities.\n\n\n\n#InterfaithDialogue #CommunityEngagement #AtlanticInstitute #BuildingBridges #HizmetCares
URL:https://theatlanticinstitute.org/event/atlantic-institute-at-the-atlanta-interfaith-hunger-seder-and-marketplace/
CATEGORIES:Dialogue & Friendship Dinners,Interfaith Dialogue
ATTACH;FMTTYPE=image/jpeg:https://theatlanticinstitute.org/wp-content/uploads/2026/04/658909573_18060629414693846_3846247821324959027_n.jpg
END:VEVENT
END:VCALENDAR