BEGIN:VCALENDAR
VERSION:2.0
PRODID:-//Atlantic Institute - ECPv6.2.9//NONSGML v1.0//EN
CALSCALE:GREGORIAN
METHOD:PUBLISH
X-WR-CALNAME:Atlantic Institute
X-ORIGINAL-URL:https://theatlanticinstitute.org
X-WR-CALDESC:Events for Atlantic Institute
REFRESH-INTERVAL;VALUE=DURATION:PT1H
X-Robots-Tag:noindex
X-PUBLISHED-TTL:PT1H
BEGIN:VTIMEZONE
TZID:UTC
BEGIN:STANDARD
TZOFFSETFROM:+0000
TZOFFSETTO:+0000
TZNAME:UTC
DTSTART:20250101T000000
END:STANDARD
END:VTIMEZONE
BEGIN:VEVENT
DTSTART;TZID=UTC:20250402T080000
DTEND;TZID=UTC:20250402T170000
DTSTAMP:20260425T144756
CREATED:20250409T162317Z
LAST-MODIFIED:20250409T162526Z
UID:662-1743580800-1743613200@theatlanticinstitute.org
SUMMARY:Atlantic Institute Recognized by Georgia House of Representatives
DESCRIPTION:We are deeply honored to have received a Resolution from the House of Representatives recognizing the work of the Atlantic Institute in promoting dialogue\, understanding\, and service across communities. This acknowledgment is not just for us—it is a tribute to every volunteer\, partner\, and friend who believes in building bridges through compassion\, respect\, and meaningful engagement. 🤝 Thank you to the House for this heartening recognition. We’re more inspired than ever to continue fostering dialogue and friendship across all cultures and faiths.
URL:https://theatlanticinstitute.org/event/atlantic-institute-recognized-by-georgia-house-of-representatives/
CATEGORIES:Atlantic Institute News,Public Recognition
ATTACH;FMTTYPE=image/jpeg:https://theatlanticinstitute.org/wp-content/uploads/2025/04/489563810_18019495493693846_2501139884373471707_n.jpg
END:VEVENT
END:VCALENDAR